BEGIN:VCALENDAR
VERSION:2.0
METHOD:PUBLISH
BEGIN:VEVENT
DTSTART:20200906T110000
DTEND:20200906T180000
LOCATION:TAURON Arena Kraków ul. Stanisława Lema 7  Kraków
TRANSP: OPAQUE
SEQUENCE:0
UID:
DTSTAMP:20260423T194533Z
SUMMARY:BADYLE - III targi roślinne w Krakowie
DESCRIPTION:BADYLE - targi roślinne - vol. 36. września 2020 | godz. 11-18TAURON ARENA KRAKÓW Stanisława Lema 7, Kraków/foyer, wejście nr 1/ ❗ OBOWIĄZUJE DARMOWA REJESTRACJA NA WYDARZENIE ❗Z uwagi......
URL:https://app.evenea.pl/event/badyle/
PRIORITY:1
CLASS:PUBLIC
END:VEVENT
END:VCALENDAR
