BEGIN:VCALENDAR
VERSION:2.0
METHOD:PUBLISH
BEGIN:VEVENT
DTSTART:20250323T130000
DTEND:20250323T130000
LOCATION:Dobre Miejsce - Katolickie Centrum Kultury Dewajtis 3 (wej.B)  Warszawa
TRANSP: OPAQUE
SEQUENCE:0
UID:
DTSTAMP:20260423T022524Z
SUMMARY:Niedzielne Bajeczki - Teatr Bigiel
DESCRIPTION:Zapraszamy na kolejne przedstawienie dla dzieci i rodziców z cyklu "Niedzielne bajeczki". W marcu zagości u nas Teatr Bigiel z Krakowa ze spektaklem "Bajki rozmaite". DATA: 23.03.2025 r., godzina......
URL:https://app.evenea.pl/event/bajkirozmaite/
PRIORITY:1
CLASS:PUBLIC
END:VEVENT
END:VCALENDAR
