BEGIN:VCALENDAR
VERSION:2.0
METHOD:PUBLISH
BEGIN:VEVENT
DTSTART:20240928T130000
DTEND:20240928T130000
LOCATION:Książnica Pomorska Podgórna 15/16  Szczecin
TRANSP: OPAQUE
SEQUENCE:0
UID:
DTSTAMP:20260424T093510Z
SUMMARY:Bajkowe spotkanie z autorką Anielą Cholewińską-Szkolik
DESCRIPTION:Serdecznie zapraszamy na "Bajkowe spotkanie" z Anielą Cholewińską-Szkolik, które odbędzie się w sobotę, 28 września 2024 roku, w Książnicy Pomorskiej, w sali 9. To wyjątkowe wydarzenie......
URL:https://app.evenea.pl/event/bajkowespotkanie/
PRIORITY:1
CLASS:PUBLIC
END:VEVENT
END:VCALENDAR
