BEGIN:VCALENDAR
VERSION:2.0
METHOD:PUBLISH
BEGIN:VEVENT
DTSTART:20260321T110000
DTEND:20260321T120000
LOCATION:Stowarzyszenie KLANZA w Białymstoku Witosa 15B (II piętro)  Białystok
TRANSP: OPAQUE
SEQUENCE:0
UID:
DTSTAMP:20260419T160325Z
SUMMARY:Opowiedział Dzięcioł Sowie | Spektakl oraz zabawy animacyjne dla dzieci
DESCRIPTION:🌷 Powitajmy wiosnę z Teatrem Bajkowych Superbabć! Spektakl "Opowiedział dzięcioł sowie" oraz animacje dla dzieci 🎭Zapraszamy dzieci w wieku 5-10 lat wraz z opiekunami na wyjątkowe......
URL:https://app.evenea.pl/event/bajkowesuperbabcie/
PRIORITY:1
CLASS:PUBLIC
END:VEVENT
END:VCALENDAR
