BEGIN:VCALENDAR
VERSION:2.0
METHOD:PUBLISH
BEGIN:VEVENT
DTSTART:20211107T170000
DTEND:20211107T170000
LOCATION:Ack Umcs Chatka Żaka Radziszewskiego 16  Lublin
TRANSP: OPAQUE
SEQUENCE:0
UID:
DTSTAMP:20260425T154444Z
SUMMARY:Podróże po Indochinach
DESCRIPTION:Indochiny- jest w tej nazwie jakaś magia. Wyobrażenia o kolorach, smakach i zapachach, które tworzą niezwykła mieszankę. Niezwykłe świątynie i posągi, łodzie sunące po licznych rzekach,......
URL:https://app.evenea.pl/event/bakindochiny/
PRIORITY:1
CLASS:PUBLIC
END:VEVENT
END:VCALENDAR
