BEGIN:VCALENDAR
VERSION:2.0
METHOD:PUBLISH
BEGIN:VEVENT
DTSTART:20191122T200000
DTEND:20191122T200000
LOCATION:Kolonia Artystów Aleja Grunwaldzka 51  Gdańsk
TRANSP: OPAQUE
SEQUENCE:0
UID:
DTSTAMP:20260420T162922Z
SUMMARY:Wojciech Bąkowski - pokaz filmów pt. "Czasy" / "Times"
DESCRIPTION:Zapraszamy na spotkanie autorskie z Wojciechem Bąkowskim. Podczas spotkania odbędzie się pokaz filmów.Pokaz filmów odbywa się w ramach projektu pt. OPEN. Projekt dofinansowano ze środków......
URL:https://app.evenea.pl/event/bakowski/
PRIORITY:1
CLASS:PUBLIC
END:VEVENT
END:VCALENDAR
