BEGIN:VCALENDAR
VERSION:2.0
METHOD:PUBLISH
BEGIN:VEVENT
DTSTART:20250630T100000
DTEND:20250630T170000
LOCATION:Urząd Marszałkowski Województwa Zachodniopomorskiego - Sala Konferencyjna Delfin ul. Marszałka Józefa Piłsudskiego 40, wejście od Placu Rodła  Szczecin
TRANSP: OPAQUE
SEQUENCE:0
UID:
DTSTAMP:20260421T140755Z
SUMMARY:Baltic - see what’s going on: exploring security, connectivity and economic resilience in the baltic sea region
DESCRIPTION:Już 30 czerwca 2025 roku o godzinie 10:00 w sali konferencyjnej Urzędu Marszałkowskiego Województwa Zachodniopomorskiego w Szczecinie odbędzie się Konferencja BALTIC - SEE WHAT'S GOING ON......
URL:https://app.evenea.pl/event/balticseewhatsgoingon/
PRIORITY:1
CLASS:PUBLIC
END:VEVENT
END:VCALENDAR
