BEGIN:VCALENDAR
VERSION:2.0
METHOD:PUBLISH
BEGIN:VEVENT
DTSTART:20200207T100000
DTEND:20200207T100000
LOCATION:BPNT Gdynia - Bałtycki Port Nowych Technologii Czechosłowacka 3  Gdynia
TRANSP: OPAQUE
SEQUENCE:0
UID:
DTSTAMP:20260420T182814Z
SUMMARY:Uroczyste podpisanie porozumienia i uruchomienie Klastra  "Grupa Bezpieczny Bałtyk"
DESCRIPTION:Regionalna Izba Gospodarcza Pomorzaserdecznie zaprasza Państwa do udziału w wydarzeniuUroczyste podpisanie porozumienia i uruchomienie Klastra "Grupa Bezpieczny Bałtyk"Piątek, 7 lutego 2020......
URL:https://app.evenea.pl/event/baltyk/
PRIORITY:1
CLASS:PUBLIC
END:VEVENT
END:VCALENDAR
