BEGIN:VCALENDAR
VERSION:2.0
METHOD:PUBLISH
BEGIN:VEVENT
DTSTART:20250118T190000
DTEND:20250118T190000
LOCATION:Sala balowa w Hanza Tower Wyzwolenia 50  Szczecin
TRANSP: OPAQUE
SEQUENCE:0
UID:
DTSTAMP:20260421T200340Z
SUMMARY:Bal Charytatywny na rzecz Stowarzyszenia Hospicjum Królowej Apostołów Tanowo
DESCRIPTION:Z ogromną radością ogłaszamy drugi Bal Charytatywnty po skrzydałmi Zachodniopomorskiego Uniwersytetu Ludowego w Mierzynie! Cieszymy się również, że współorganizatorem przedsięwzięcia......
URL:https://app.evenea.pl/event/balzul2/
PRIORITY:1
CLASS:PUBLIC
END:VEVENT
END:VCALENDAR
