BEGIN:VCALENDAR
VERSION:2.0
METHOD:PUBLISH
BEGIN:VEVENT
DTSTART:20240210T113000
DTEND:20240210T130000
LOCATION:Bankowiec - Mini Muzeum 3 Maja 27  Gdynia
TRANSP: OPAQUE
SEQUENCE:0
UID:
DTSTAMP:20260424T003149Z
SUMMARY:10 lutego g. 11:30-13:30 Archi Tour | Otwarty "Bankowiec" oraz Mini Muzeum Bankowca
DESCRIPTION:W imieniu Mini Muzeum oraz Miasta Gdyni, serdecznie zapraszamy na wyjątkowy Archi-Tour odwiedziny modernistycznej perły Gdyni - wielomieszkaniowego kompleksu "Bankowiec" przy ulicy 3 Maja 27/31......
URL:https://app.evenea.pl/event/bankowiec0201/
PRIORITY:1
CLASS:PUBLIC
END:VEVENT
END:VCALENDAR
