BEGIN:VCALENDAR
VERSION:2.0
METHOD:PUBLISH
BEGIN:VEVENT
DTSTART:20260210T120000
DTEND:20260210T132000
LOCATION:"Bankowiec i Mini-Muzeum" 3 Maja 27/31  Gdynia
TRANSP: OPAQUE
SEQUENCE:0
UID:
DTSTAMP:20260424T130553Z
SUMMARY:"BANKOWIEC i Mini Muzeum" | urodzinowy Archi-Tour z przewodnikami
DESCRIPTION:W imieniu Mini Muzeum oraz Gdyńskiego Szlaku Modernizmu, serdecznie zapraszamy na urodzinowy Archi-Tour, w czasie którego odwiedziny modernistyczną perłę Gdyni - wielomieszkaniowy kompleks......
URL:https://app.evenea.pl/event/bankowiec2026/
PRIORITY:1
CLASS:PUBLIC
END:VEVENT
END:VCALENDAR
