BEGIN:VCALENDAR
VERSION:2.0
METHOD:PUBLISH
BEGIN:VEVENT
DTSTART:20240310T103000
DTEND:20240310T114500
LOCATION:"Bankowiec" oraz Mini Muzeum | Gdyński Szlak Modernizmu 3 Maja 27  Gdynia
TRANSP: OPAQUE
SEQUENCE:0
UID:
DTSTAMP:20260424T075046Z
SUMMARY:Archi Tour - Otwarty "Bankowiec" i Mini Muzeum Bankowca  | Edycja marcowa
DESCRIPTION:W imieniu Mini Muzeum oraz Miasta Gdyni, serdecznie zapraszamy na marcowy Archi-Tour - oprowadzanie po modernistycznej perle Gdyni - wielomieszkaniowym kompleksie "Bankowiec" przy ulicy 3 Maja......
URL:https://app.evenea.pl/event/bankowiecarchitour/
PRIORITY:1
CLASS:PUBLIC
END:VEVENT
END:VCALENDAR
