BEGIN:VCALENDAR
VERSION:2.0
METHOD:PUBLISH
BEGIN:VEVENT
DTSTART:20230224T200000
DTEND:20230224T220000
LOCATION:Dzikie Wino Na Kleparzu Plac Kleparski 20  Kraków
TRANSP: OPAQUE
SEQUENCE:0
UID:
DTSTAMP:20260420T042644Z
SUMMARY:Betonowe jaja czyli DEGUSTACJA & SPOTKANIE z KAMILEM BARCZENTEWICZEM w DZIKIM WINIE na KLEPARZU vol. 2
DESCRIPTION:Zapraszamy na DEGUSTACJĘ najnowszych WIN &amp; ROZMOWĘ z KAMILEM BARCZENTEWICZEM w DZIKIM WINIE na KLEPARZU!W Waszych kieliszkach znajdą się:1. Winnica Kamil Barczentewicz Gewürztraminer 2021......
URL:https://app.evenea.pl/event/barczentewiczwdzikimwinie/
PRIORITY:1
CLASS:PUBLIC
END:VEVENT
END:VCALENDAR
