BEGIN:VCALENDAR
VERSION:2.0
METHOD:PUBLISH
BEGIN:VEVENT
DTSTART:20160622T170000
DTEND:20160622T170000
LOCATION:Centrum Edukacyjne im. Jana Pawła II Jana Pawła II 5a  Gliwice
TRANSP: OPAQUE
SEQUENCE:0
UID:
DTSTAMP:20260419T144201Z
SUMMARY:Fenomen Colway naukowo - wykład prof. Sergieja Batieczko oraz dr Jarosława Słonia w Gliwicach.
DESCRIPTION:Zapraszamy na wykład Prof. Siergieja Anatoliewicza BATIECZKO, doktora nauk medycznych, Członka Międzynarodowej Akademii Ekologii oraz dr Jarosława Słonia wykładowcy Uniwersytetu......
URL:https://app.evenea.pl/event/batieczkogliwice/
PRIORITY:1
CLASS:PUBLIC
END:VEVENT
END:VCALENDAR
