BEGIN:VCALENDAR
VERSION:2.0
METHOD:PUBLISH
BEGIN:VEVENT
DTSTART:20210330T170000
DTEND:20210330T183000
LOCATION:online, poprzez platformę ZOOM, link po potwierdzeniu rezerwacji   
TRANSP: OPAQUE
SEQUENCE:0
UID:
DTSTAMP:20260422T061440Z
SUMMARY:Projektowanie myślenia - warszt online - prowadzenie Małgorzta Marczewska cz II
DESCRIPTION:[WSTĘP WOLNY] dzięki Urzędowi Dzielnicy Bielany Podczas warsztatów praktycznych online z Małgorzatą Marczewską z LAB LIFE rozpoczniesz swoją drogę do:STWORZENIA własnej indywidualnej......
URL:https://app.evenea.pl/event/bau2021projektowaniemysleniawarsztatwtorek/
PRIORITY:1
CLASS:PUBLIC
END:VEVENT
END:VCALENDAR
