BEGIN:VCALENDAR
VERSION:2.0
METHOD:PUBLISH
BEGIN:VEVENT
DTSTART:20210325T190000
DTEND:20210325T190000
LOCATION:online, streaming na żywo z bielańskiego Ratusza na Facebooku Bielańskiej Akademii Umijętności   
TRANSP: OPAQUE
SEQUENCE:0
UID:
DTSTAMP:20260422T061130Z
SUMMARY:Projektowanie myślenia - WYKŁAD - prowadzenie Małgorzta Marczewska
DESCRIPTION:[WSTĘP WOLNY] dzięki Urzędowi Dzielnicy Bielany Czy jest coś, o czym marzysz? Czy kultura i sztuka są Ci bliskie? Czy chcesz mieć większy wpływ na swoje życie, twórczość i nie poddawać......
URL:https://app.evenea.pl/event/bau2021projektowaniewyklad/
PRIORITY:1
CLASS:PUBLIC
END:VEVENT
END:VCALENDAR
