BEGIN:VCALENDAR
VERSION:2.0
METHOD:PUBLISH
BEGIN:VEVENT
DTSTART:20231014T110000
DTEND:20231014T220000
LOCATION:Gdyński Konsulat Kultury Jana z Kolna 25  Gdynia
TRANSP: OPAQUE
SEQUENCE:0
UID:
DTSTAMP:20260420T190656Z
SUMMARY:BlackBox No.120 - V Trójmiejski Weekend z Warsztatami i Larpami - Warsztaty
DESCRIPTION:Larp to aktywność na pograniczu gry i sztuki, polegająca na realizacji zadań i celów poprzez wcielaniu się w role oraz na wspólnym tworzeniu i przeżywaniu opowieści, podobnie jak w......
URL:https://app.evenea.pl/event/bb3cno120b/
PRIORITY:1
CLASS:PUBLIC
END:VEVENT
END:VCALENDAR
