BEGIN:VCALENDAR
VERSION:2.0
METHOD:PUBLISH
BEGIN:VEVENT
DTSTART:20231209T170000
DTEND:20231209T170000
LOCATION:Gdyńskie Centrum Kultury Jana z Kolna 25  Gdynia
TRANSP: OPAQUE
SEQUENCE:0
UID:
DTSTAMP:20260419T142450Z
SUMMARY:BlackBox No.124 - Grupa Prometeusza
DESCRIPTION:Wydarzenie jest częścią projektu BlackBox 3City, więcej na temat projektu na stronie bb3c.pl.Autor/zy:Kopij FilipIdziak PiotrFormat: larp kameralnyKonwencja: sensacja, świat współczesnyCzas......
URL:https://app.evenea.pl/event/bb3cno124/
PRIORITY:1
CLASS:PUBLIC
END:VEVENT
END:VCALENDAR
