BEGIN:VCALENDAR
VERSION:2.0
METHOD:PUBLISH
BEGIN:VEVENT
DTSTART:20221016T120000
DTEND:20221016T130000
LOCATION:Młyny Rothera Mennica 10  Bydgoszcz
TRANSP: OPAQUE
SEQUENCE:0
UID:
DTSTAMP:20260426T044253Z
SUMMARY:Skarby ze śmietnika. Jak zbudować wartościową kolekcję dizajnu.  || Bydgoskie Dni Projektowe 2022
DESCRIPTION:Warsztat dla wszystkich miłośników pięknych przedmiotów, dobrego polskiego dizajnu z lat 60./70. i najnowszych projektów współczesnych twórców. Zachęcimy do rozwijania pasji......
URL:https://app.evenea.pl/event/bdpskarbyzesmietnika2/
PRIORITY:1
CLASS:PUBLIC
END:VEVENT
END:VCALENDAR
