BEGIN:VCALENDAR
VERSION:2.0
METHOD:PUBLISH
BEGIN:VEVENT
DTSTART:20221014T160000
DTEND:20221014T170000
LOCATION:Młyny Rothera Mennica 10  Bydgoszcz
TRANSP: OPAQUE
SEQUENCE:0
UID:
DTSTAMP:20260422T044715Z
SUMMARY:Z myślą o przyszłości… Program badań potrzeb i doświadczeń użytkowników (UX) w pociągach klasy Regio/Intercity || Bydgoskie Dni Projektowe 2022
DESCRIPTION:Dlaczego badanie doświadczeń użytkowników jest istotnym elementem projektowania? Co powoduje, że dane rozwiązanie jest intuicyjne, a pasażerowie wybierają określone usługi?Budowanie......
URL:https://app.evenea.pl/event/bdpwarsztatypesa/
PRIORITY:1
CLASS:PUBLIC
END:VEVENT
END:VCALENDAR
