BEGIN:VCALENDAR
VERSION:2.0
METHOD:PUBLISH
BEGIN:VEVENT
DTSTART:20200519T180000
DTEND:20200519T220000
LOCATION:Internet W 100% na ŻYWO  
TRANSP: OPAQUE
SEQUENCE:0
UID:
DTSTAMP:20260419T225447Z
SUMMARY:Beesfund Investors Day #10 (online)
DESCRIPTION:ID numer 10, podejście drugie ;) Z wiadomych względów w marcu odwołaliśmy Investors Day, nie ma jednak co czekać i trzeba się dostosowywać.Dlatego zapraszamy Was na pierwszy Investors Day......
URL:https://app.evenea.pl/event/beesfundid10onine/
PRIORITY:1
CLASS:PUBLIC
END:VEVENT
END:VCALENDAR
