BEGIN:VCALENDAR
VERSION:2.0
METHOD:PUBLISH
BEGIN:VEVENT
DTSTART:20250612T170000
DTEND:20250612T170000
LOCATION:Galeria Morena - lokal Kubek i Ołówek Schuberta 102 A  Gdańsk
TRANSP: OPAQUE
SEQUENCE:0
UID:
DTSTAMP:20260423T050018Z
SUMMARY:#BezSpiny - GALERIA MORENA "Mapa stresu" - co nas stresuje i jak to rozpoznać?
DESCRIPTION:Chciałabym zdobywać świat… ALE stres mnie paraliżuje.Chciałabym działać odważnie, mówić głośno o tym, co czuję, i robić rzeczy, które mnie naprawdę kręcą… ALE stres mnie......
URL:https://app.evenea.pl/event/bez-spiny/
PRIORITY:1
CLASS:PUBLIC
END:VEVENT
END:VCALENDAR
