BEGIN:VCALENDAR
VERSION:2.0
METHOD:PUBLISH
BEGIN:VEVENT
DTSTART:20241128T083000
DTEND:20241128T180000
LOCATION:Europejskie Centrum Solidarności  I  European Solidarity Centre plac Solidarności 1  Gdańsk
TRANSP: OPAQUE
SEQUENCE:0
UID:
DTSTAMP:20260423T052029Z
SUMMARY:BeZee - Trendy w edukacji 2024
DESCRIPTION:Serdecznie zapraszamy na jubileuszową edycję Konferencji BeZee - Trendy w edukacji, która odbędzie się 28 listopada 2024 roku w Europejskim Centrum Solidarności w Gdańsku (ECS). Będziemy z......
URL:https://app.evenea.pl/event/bezee2024/
PRIORITY:1
CLASS:PUBLIC
END:VEVENT
END:VCALENDAR
