BEGIN:VCALENDAR
VERSION:2.0
METHOD:PUBLISH
BEGIN:VEVENT
DTSTART:20251127T114000
DTEND:20251127T114000
LOCATION:Europejskie Centrum Solidarności  I  European Solidarity Centre plac Solidarności 1  Gdańsk
TRANSP: OPAQUE
SEQUENCE:0
UID:
DTSTAMP:20260420T223745Z
SUMMARY:Warsztaty BeZee 2025
DESCRIPTION:W ramach tegorocznej konferencji BeZee mamy dla Państwa 4 warsztaty i debatę w sesji porannej oraz 5 popołudniowych. Liczba miejsc na warsztaty jest ograniczona i wynika z pojemności sal......
URL:https://app.evenea.pl/event/bezee2025warsztaty/
PRIORITY:1
CLASS:PUBLIC
END:VEVENT
END:VCALENDAR
