BEGIN:VCALENDAR
VERSION:2.0
METHOD:PUBLISH
BEGIN:VEVENT
DTSTART:20261124T083000
DTEND:20261124T083000
LOCATION:Europejskie Centrum Solidarności  I  European Solidarity Centre plac Solidarności 1  Gdańsk
TRANSP: OPAQUE
SEQUENCE:0
UID:
DTSTAMP:20260420T222832Z
SUMMARY:BeZee - Trendy w edukacji 2026
DESCRIPTION:24 listopada 2026 r. Spotkamy się ponownie w Europejskim Centrum Solidarności w Gdańsku, aby po raz kolejny wspólnie spojrzeć w przyszłość edukacji. To wydarzenie, które od lat inspiruje......
URL:https://app.evenea.pl/event/bezee2026/
PRIORITY:1
CLASS:PUBLIC
END:VEVENT
END:VCALENDAR
