BEGIN:VCALENDAR
VERSION:2.0
METHOD:PUBLISH
BEGIN:VEVENT
DTSTART:20200130T180000
DTEND:20200130T200000
LOCATION:Eranova Aleja Obrońców Tobruku 3,  10-092 Olsztyn
TRANSP: OPAQUE
SEQUENCE:0
UID:
DTSTAMP:20260423T111657Z
SUMMARY:"Postanowienia noworoczne? A gdyby tak z innej strony? Odblokowanie przepływu dostatku i obfitości".
DESCRIPTION:Zapraszamy na wyjątkowe spotkanie pt. "Postanowienia noworoczne? A gdyby tak z innej strony? Odblokowanie przepływu dostatku i obfitości".Program:18:00 - 18:10 - Wstąpienie przedstawicielki......
URL:https://app.evenea.pl/event/bezgorsetu/
PRIORITY:1
CLASS:PUBLIC
END:VEVENT
END:VCALENDAR
