BEGIN:VCALENDAR
VERSION:2.0
METHOD:PUBLISH
BEGIN:VEVENT
DTSTART:20240215T100000
DTEND:20240215T120000
LOCATION:Bydgoskie Centrum Organizacji Pozarządowych i Wolontariatu ul. Gdańska 5, sala konferencyjna  Bydgoszcz
TRANSP: OPAQUE
SEQUENCE:0
UID:
DTSTAMP:20260419T171909Z
SUMMARY:Bezpieczeństwo IT dla biznesu - jak minimalizować ryzyko
DESCRIPTION:\n\n	Współczesne firmy narażone są na różne ataki cybernetyczne. Jak się przed nimi uchronić? Dowiesz się na szkoleniu organizowanym wspólnie z Eximo Project.\n\n\n\n	Plan szkolenia\n\n......
URL:https://app.evenea.pl/event/bezpieczenstwo-it-bydgoszcz/
PRIORITY:1
CLASS:PUBLIC
END:VEVENT
END:VCALENDAR
