BEGIN:VCALENDAR
VERSION:2.0
METHOD:PUBLISH
BEGIN:VEVENT
DTSTART:20211117T133000
DTEND:20211117T150000
LOCATION:InQUBE Wielka 67  Wrocław
TRANSP: OPAQUE
SEQUENCE:0
UID:
DTSTAMP:20260420T080331Z
SUMMARY:Jak nie dać się oszukać w sieci. Prywatnie i w biznesie - warsztaty stacjonarne w InQUBE
DESCRIPTION:Zapraszamy na stacjonarne wydarzenie w Uniwersyteckim Inkubatorze Przedsiębiorczości InQUBE dotyczące bezpieczeństwa w Internecie. Prawie każdy z nas korzysta z płatności elektronicznych i......
URL:https://app.evenea.pl/event/bezpieczenstwowinternecie/
PRIORITY:1
CLASS:PUBLIC
END:VEVENT
END:VCALENDAR
