BEGIN:VCALENDAR
VERSION:2.0
METHOD:PUBLISH
BEGIN:VEVENT
DTSTART:20221208T180000
DTEND:20221208T213000
LOCATION:Google for Startups Campus Warsaw Plac Konesera 10  Warszawa
TRANSP: OPAQUE
SEQUENCE:0
UID:
DTSTAMP:20260421T200509Z
SUMMARY:Blockchain Girls - start kariery w web3 - prawo i regulacje
DESCRIPTION:Chcesz rozpocząć pracę w web3 ale nie wiesz od czego zacząć? Jesteś prawnikiem, doradcą podatkowym, ekspertką ds. księgowości lub AML i stawiasz pierwsze kroki w tej branży ale nadal......
URL:https://app.evenea.pl/event/bg-karieraweb3/
PRIORITY:1
CLASS:PUBLIC
END:VEVENT
END:VCALENDAR
