BEGIN:VCALENDAR
VERSION:2.0
METHOD:PUBLISH
BEGIN:VEVENT
DTSTART:20240221T180000
DTEND:20240221T213000
LOCATION:Rotunda PKO BP ul. Marszałkowska 100/102  Warszawa
TRANSP: OPAQUE
SEQUENCE:0
UID:
DTSTAMP:20260424T232339Z
SUMMARY:Start kariery w Web3 - role techniczne + warsztat explorery blockchain (Blockchain Girls x Tezos)
DESCRIPTION:Chcesz rozpocząć pracę w Web3 w roli technicznej ale nie wiesz od czego zacząć? Stawiasz pierwsze kroki w "programowaniu blockchainów" ale nadal masz więcej pytań niż odpowiedzi? A może......
URL:https://app.evenea.pl/event/bg-karieraweb3tech/
PRIORITY:1
CLASS:PUBLIC
END:VEVENT
END:VCALENDAR
