BEGIN:VCALENDAR
VERSION:2.0
METHOD:PUBLISH
BEGIN:VEVENT
DTSTART:20210731T100000
DTEND:20210801T200000
LOCATION:KOPALNIA STREFA WAKACJI Odrzańska 11  Paniowice
TRANSP: OPAQUE
SEQUENCE:0
UID:
DTSTAMP:20260422T130353Z
SUMMARY:★Weekendowa BIBA DAY w Kopalni Strefie Wakacji!★
DESCRIPTION:Nie jeden, a dwa dni odlotowej imprezy BIBA DAY z Radiem ESKA już 31 lipca i 1 sierpnia w Kopalni Strefie Wakacji! Pamiętacie, jak gorąco ❤️🔥 było na ostatnim BIBA DAY ? Teraz......
URL:https://app.evenea.pl/event/bibaday/
PRIORITY:1
CLASS:PUBLIC
END:VEVENT
END:VCALENDAR
