BEGIN:VCALENDAR
VERSION:2.0
METHOD:PUBLISH
BEGIN:VEVENT
DTSTART:20221206T100000
DTEND:20221206T140000
LOCATION:Julinek Park Julinek 1  05-084 Leszno
TRANSP: OPAQUE
SEQUENCE:0
UID:
DTSTAMP:20260425T170130Z
SUMMARY:Biegi Przełajowe - Misja Kampinos Cup
DESCRIPTION:Stowarzyszenie "Między Wisłą a Kampinosem" zaprasza do wzięcia udziału w "Biegach Przełajowych - Misja Kampinos CUP"6 grudnia 2022 r. Celem wydarzenia jest promocja i zachęcanie......
URL:https://app.evenea.pl/event/biegiprzelajowe2022/
PRIORITY:1
CLASS:PUBLIC
END:VEVENT
END:VCALENDAR
