BEGIN:VCALENDAR
VERSION:2.0
METHOD:PUBLISH
BEGIN:VEVENT
DTSTART:20211010T100000
DTEND:20211010T180000
LOCATION:Budynek Bud Invest Energy Kwiatowa 21  Tczew
TRANSP: OPAQUE
SEQUENCE:0
UID:
DTSTAMP:20260421T223637Z
SUMMARY:BiEnergy EXPO 2021 -Targi nowoczesnego i ekologicznego budownictwa
DESCRIPTION:Pierwsze w regionie targi nowoczesnego budownictwa i systemów opartych na odnawialnych źródłach energiiEkspozycja prowadzi przez wszystkie etapy budowy domu, od finansowania i projektu, aż po......
URL:https://app.evenea.pl/event/bienergyexpo/
PRIORITY:1
CLASS:PUBLIC
END:VEVENT
END:VCALENDAR
