BEGIN:VCALENDAR
VERSION:2.0
METHOD:PUBLISH
BEGIN:VEVENT
DTSTART:20231208T150000
DTEND:20231208T200000
LOCATION:Politechnika Gdańska, CK Stos, bud. A, 1 piętro ul. Traugutta 75  Gdańsk
TRANSP: OPAQUE
SEQUENCE:0
UID:
DTSTAMP:20260420T152230Z
SUMMARY:BIM Meetup Gdańsk
DESCRIPTION:🟣 BIMowcy - spotkajmy się w Trójmieście! 🟣Przed nami pierwsza edycja BIM Meetup Gdańsk. Zgodnie z zapowiedzią jedziemy z Meetupem spotkać się z Wami w innych miastach.......
URL:https://app.evenea.pl/event/bimmeetupgdansk/
PRIORITY:1
CLASS:PUBLIC
END:VEVENT
END:VCALENDAR
