BEGIN:VCALENDAR
VERSION:2.0
METHOD:PUBLISH
BEGIN:VEVENT
DTSTART:20200822T150000
DTEND:20200822T150000
LOCATION:Wieża Bismarcka (Gocławska) ul. Narciarska 5a  Szczecin
TRANSP: OPAQUE
SEQUENCE:0
UID:
DTSTAMP:20260424T074851Z
SUMMARY:II grill na wieży Bismarcka!
DESCRIPTION:Weź udział w kolejnej imprezie przy wieży Bismarcka w Szczecinie w ramach cyklu "Kurs na Północ"!Grupa Rentumi Foundation organizuje po raz drugi grill pod wieżą Bismarcka. W planie oprócz......
URL:https://app.evenea.pl/event/bismarck/
PRIORITY:1
CLASS:PUBLIC
END:VEVENT
END:VCALENDAR
