BEGIN:VCALENDAR
VERSION:2.0
METHOD:PUBLISH
BEGIN:VEVENT
DTSTART:20241206T170000
DTEND:20241206T201500
LOCATION:4PERON MOKSiAL Dworcowa 10  Szklarska Poręba
TRANSP: OPAQUE
SEQUENCE:0
UID:
DTSTAMP:20260425T210757Z
SUMMARY:BITWA O LEPSZE JUTRO
DESCRIPTION:\n\n	\n\n\n\n	Siemanko! Z tej strony Duże Pe\n\n\n\n	Serdecznie zapraszam Was do \n\n	Szklarskiej Poręby, gdzie 6 grudnia poprowadzę w przestrzeni 4PERON MOKSiAL freestyle battle BITWA O LEPSZE......
URL:https://app.evenea.pl/event/bitwaolepszejutro/
PRIORITY:1
CLASS:PUBLIC
END:VEVENT
END:VCALENDAR
