BEGIN:VCALENDAR
VERSION:2.0
METHOD:PUBLISH
BEGIN:VEVENT
DTSTART:20240314T180000
DTEND:20240314T220000
LOCATION:Stadion Polsat Plus Arena Gdańsk ul. Pokoleń Lechii Gdańsk 1,  Gdańsk
TRANSP: OPAQUE
SEQUENCE:0
UID:
DTSTAMP:20260421T125757Z
SUMMARY:TRÓJMIEJSKI WIECZÓR SPORTOWO-BIZNESOWY - 14.III.2024
DESCRIPTION:TRÓJMIEJSKI WIECZÓR SPORTOWO-BIZNESOWY - 14.III.2024Agenda spotkania:17:00 do 18:00 - Zwiedzanie obiektu, Networking, Expo18:00 do 18:30 - Gość Specjalny18:30 do 19:00 - Gość Specjalny18:30......
URL:https://app.evenea.pl/event/biznes-sport/
PRIORITY:1
CLASS:PUBLIC
END:VEVENT
END:VCALENDAR
