BEGIN:VCALENDAR
VERSION:2.0
METHOD:PUBLISH
BEGIN:VEVENT
DTSTART:20221012T120000
DTEND:20221012T130000
LOCATION:online   
TRANSP: OPAQUE
SEQUENCE:0
UID:
DTSTAMP:20260420T100458Z
SUMMARY:Jak legalnie prowadzić biznes online - konsultacje prawne online
DESCRIPTION:Otwierasz własny biznes online i zadajesz sobie takie pytania? Czy Twoja polityka prywatności jest sporządzona poprawnie? Ja stworzyć politykę prywatności? Czy masz dobrze ustawiony baner......
URL:https://app.evenea.pl/event/biznesonlinepazdziernik/
PRIORITY:1
CLASS:PUBLIC
END:VEVENT
END:VCALENDAR
