BEGIN:VCALENDAR
VERSION:2.0
METHOD:PUBLISH
BEGIN:VEVENT
DTSTART:20200325T190000
DTEND:20200325T190000
LOCATION:SASSY ROOF TOP Chmielna 10  Gdask
TRANSP: OPAQUE
SEQUENCE:0
UID:
DTSTAMP:20260421T085821Z
SUMMARY:Biznes po Kaszubsku - SASSY ROOF TOP Gdańsk
DESCRIPTION:ZAPROSZENIE - 29.IV.2020 - Biznes po Kaszubsku - GdańskDzień dobry.Zapraszamy na spotkanie, Biznes po Kaszubsku w dniu 29.IV.2020 w godzinach od 17:00 do 21:00 do SASSY ROOF TOP w Gdańsku Agenda......
URL:https://app.evenea.pl/event/biznespokaszubsku-sassyrooftop/
PRIORITY:1
CLASS:PUBLIC
END:VEVENT
END:VCALENDAR
