BEGIN:VCALENDAR
VERSION:2.0
METHOD:PUBLISH
BEGIN:VEVENT
DTSTART:20191130T083000
DTEND:20191130T143000
LOCATION:Elbląski Park Technologiczny ul. Stanisława Sulimy 1  Elbląg
TRANSP: OPAQUE
SEQUENCE:0
UID:
DTSTAMP:20260423T073309Z
SUMMARY:Biznes po Żuławsku
DESCRIPTION:Dzień dobry.Zapraszamy na spotkanie, BIZNES po Żuławsku w dniu 30.XI.2019 w godzinach od 08:00 do 15:00 do Elbląskiego Parku Technologicznego. Agenda spotkania08:30 do 10:00 - Networking10:00......
URL:https://app.evenea.pl/event/biznespozulawsku/
PRIORITY:1
CLASS:PUBLIC
END:VEVENT
END:VCALENDAR
