BEGIN:VCALENDAR
VERSION:2.0
METHOD:PUBLISH
BEGIN:VEVENT
DTSTART:20260314T103000
DTEND:20260314T103000
LOCATION:Miejsce Aktywności Lokalnej Szerokie Możliwości ul. Nałęczowska 175  Lublin
TRANSP: OPAQUE
SEQUENCE:0
UID:
DTSTAMP:20260419T164454Z
SUMMARY:Biżuteria z żywicy UV
DESCRIPTION:Zapraszamy na kreatywne warsztaty, podczas których stworzysz własną, unikalną biżuterię z suszonych kwiatów zatopionych w żywicy UV. To doskonała okazja, aby połączyć naturę ze sztuką......
URL:https://app.evenea.pl/event/bizuteriauv/
PRIORITY:1
CLASS:PUBLIC
END:VEVENT
END:VCALENDAR
