BEGIN:VCALENDAR
VERSION:2.0
METHOD:PUBLISH
BEGIN:VEVENT
DTSTART:20250318T100000
DTEND:20250318T110000
LOCATION:online   
TRANSP: OPAQUE
SEQUENCE:0
UID:
DTSTAMP:20260419T205727Z
SUMMARY:Tworzenie i optymalizacja stron internetowych oraz aplikacji mobilnych - konsultacje online
DESCRIPTION:Serdecznie zapraszamy na darmowe konsultacje poświęcone tworzeniu stron internetowych oraz aplikacji mobilnych. To doskonała okazja, by uzyskać wsparcie ekspertów w zakresie projektowania i......
URL:https://app.evenea.pl/event/bnywwwmarzec25k/
PRIORITY:1
CLASS:PUBLIC
END:VEVENT
END:VCALENDAR
