BEGIN:VCALENDAR
VERSION:2.0
METHOD:PUBLISH
BEGIN:VEVENT
DTSTART:20211118T180000
DTEND:20211118T180000
LOCATION:ProMedia al. Wojska Polskiego 2  Szczecin
TRANSP: OPAQUE
SEQUENCE:0
UID:
DTSTAMP:20260421T100237Z
SUMMARY:Spotkanie z Bogusławem Janiczakiem
DESCRIPTION:Zapraszamy na spotkanie z Bogusławem Janiczakiem, pisarzem-marynistą, które odbędzie się 18 listopada 2021 roku o godzinie 18.00 w ProMediach (al. Wojska Polskiego 2). Rozmowę z autorem......
URL:https://app.evenea.pl/event/boguslaw-janiczak/
PRIORITY:1
CLASS:PUBLIC
END:VEVENT
END:VCALENDAR
