BEGIN:VCALENDAR
VERSION:2.0
METHOD:PUBLISH
BEGIN:VEVENT
DTSTART:20230514T180000
DTEND:20230514T180000
LOCATION:Dobre Miejsce - Katolickie Centrum Kultury Dewajtis 3 (wej.B)  Warszawa
TRANSP: OPAQUE
SEQUENCE:0
UID:
DTSTAMP:20260420T043611Z
SUMMARY:Bohater na Forum Filmów Nie-Zwyczajnych
DESCRIPTION:Dwukrotny zdobywca Oscara (za "Rozstanie" i "Klienta") powraca do rodzinnego Iranu i czerpiąc z lokalnego kontekstu, tka kolejną uniwersalną, przejmującą przypowieść. Tym razem o człowieku,......
URL:https://app.evenea.pl/event/bohaterf/
PRIORITY:1
CLASS:PUBLIC
END:VEVENT
END:VCALENDAR
