BEGIN:VCALENDAR
VERSION:2.0
METHOD:PUBLISH
BEGIN:VEVENT
DTSTART:20250206T173000
DTEND:20250206T223000
LOCATION:Google for Startups Campus Plac Konesera 10  Warszawa
TRANSP: OPAQUE
SEQUENCE:0
UID:
DTSTAMP:20260424T013705Z
SUMMARY:Ū_meetup: Bootstrapping + Pitching (Google for Startups Campus, Feb 6)
DESCRIPTION:Join us at Ū HUB's meetup on February 6 at Google for Startups Campus, where we'll dive into all things bootstrapping. You'll hear from founders who've been there, done that, and are ready to......
URL:https://app.evenea.pl/event/bootstrapping/
PRIORITY:1
CLASS:PUBLIC
END:VEVENT
END:VCALENDAR
