BEGIN:VCALENDAR
VERSION:2.0
METHOD:PUBLISH
BEGIN:VEVENT
DTSTART:20240316T100000
DTEND:20240316T143000
LOCATION:Stare Miasto   Poznań
TRANSP: OPAQUE
SEQUENCE:0
UID:
DTSTAMP:20260422T080422Z
SUMMARY:Boska Irlandia
DESCRIPTION:UWAGA! Podpowiedź co do rejestracji. Pamiętajcie o wyborze liczby osób w drużynie przed kliknięciem guzika "Zarejestruj drużynę". ----Wyobraźcie sobie, że spędzacie wymarzony urlop w......
URL:https://app.evenea.pl/event/boska-irlandia/
PRIORITY:1
CLASS:PUBLIC
END:VEVENT
END:VCALENDAR
