BEGIN:VCALENDAR
VERSION:2.0
METHOD:PUBLISH
BEGIN:VEVENT
DTSTART:20260408T173000
DTEND:20260408T173000
LOCATION:Stowarzyszenie KLANZA Witosa 15B lok.12 (I piętro)  Białystok
TRANSP: OPAQUE
SEQUENCE:0
UID:
DTSTAMP:20260419T154235Z
SUMMARY:"Botaniczne ślady wosku" - warsztaty plastyczne
DESCRIPTION:Zapraszamy na wyjątkowy warsztat dla dorosłych, podczas którego stworzymy botaniczne obrazy z suszonych roślin i wosku 🌿To spotkanie dla wszystkich, którzy chcą na chwilę zwolnić,......
URL:https://app.evenea.pl/event/botanicznesladywosku/
PRIORITY:1
CLASS:PUBLIC
END:VEVENT
END:VCALENDAR
