BEGIN:VCALENDAR
VERSION:2.0
METHOD:PUBLISH
BEGIN:VEVENT
DTSTART:20200227T170000
DTEND:20200227T210000
LOCATION:Bałtycki Port Nowych Technologii w Gdyni Czechosłowacka 3  
TRANSP: OPAQUE
SEQUENCE:0
UID:
DTSTAMP:20260421T101157Z
SUMMARY:Biznes po Kaszubsku - Gdynia
DESCRIPTION:Dzień dobry.Nowy Rok 2020 to nowe możliwość, szanse oraz wyzwania. Zapraszamy na spotkanie, Biznes po Kaszubsku w dniu 27.II.2020 w godzinach od 17:00 do 21:00 do Bałtyckiego Portu Nowych......
URL:https://app.evenea.pl/event/bpok-gdynia-uczestnik/
PRIORITY:1
CLASS:PUBLIC
END:VEVENT
END:VCALENDAR
