BEGIN:VCALENDAR
VERSION:2.0
METHOD:PUBLISH
BEGIN:VEVENT
DTSTART:20200626T090000
DTEND:20200626T133000
LOCATION:Hotel Kozi Gród Leśników 3  83-047 Pomlewo k. Gdańska
TRANSP: OPAQUE
SEQUENCE:0
UID:
DTSTAMP:20260421T072639Z
SUMMARY:Biznes po Kaszubsku - Hotel  Kozi Gród
DESCRIPTION:ZAPROSZENIE - 26.VI.2020 - Biznes po Kaszubsku - Hotel Kozi GródDzień dobry.Zapraszamy na spotkanie, Biznes po Kaszubsku w dniu 26.VI.2020 w godzinach od 09:00 do 13:30 do Hotelu Kozi Gród w......
URL:https://app.evenea.pl/event/bpok-hotelkozigrod/
PRIORITY:1
CLASS:PUBLIC
END:VEVENT
END:VCALENDAR
