BEGIN:VCALENDAR
VERSION:2.0
METHOD:PUBLISH
BEGIN:VEVENT
DTSTART:20200924T170000
DTEND:20200924T235800
LOCATION:Roof Top by SASSY Chmielna 10  Gdańsk
TRANSP: OPAQUE
SEQUENCE:0
UID:
DTSTAMP:20260421T060840Z
SUMMARY:Biznes po Kaszubsku & Roof Top by SASSY
DESCRIPTION:ZAPROSZENIE: 24.IX.2020 - Biznes po Kaszubsku &amp; SASSY ROOF TOPDzień dobry.Zapraszamy na spotkanie, Biznes po Kaszubsku w dniu 24.IX.2020 w godzinach od 17:00 do 21:30 do SASSY ROOF TOP na......
URL:https://app.evenea.pl/event/bpok-sassyrooftop/
PRIORITY:1
CLASS:PUBLIC
END:VEVENT
END:VCALENDAR
